BEGIN:VCALENDAR
VERSION:2.0
PRODID:-//chien de berger continental - ECPv4.5.3//NONSGML v1.0//EN
CALSCALE:GREGORIAN
METHOD:PUBLISH
X-WR-CALNAME:chien de berger continental
X-ORIGINAL-URL:http://chiendeberger.fr
X-WR-CALDESC:Events for chien de berger continental
BEGIN:VEVENT
DTSTART;VALUE=DATE:20200822
DTEND;VALUE=DATE:20200823
DTSTAMP:20260424T081540
CREATED:20200128T225120Z
LAST-MODIFIED:20200812T085406Z
UID:2375-1598054400-1598227199@chiendeberger.fr
SUMMARY:Concours continental à Evreux\, 22-23 août 2020\, juge: P.Legatte - ANNULE
DESCRIPTION:Concours continental\, Niveaux 1\, 2\, 3\, Evreux\n\n22- 23 août 2020\n\n\n\n\nConcours continental Niveaux 1\, 2\, 3 Evreux\n\njuge: P.Legatte\n\nOrganisation: L’Association du Berger Ancestral\n\nContact: benoit.voisin@hotmail.fr\n\n\n
URL:http://chiendeberger.fr/index.php/event/concours-continental-a-evreux-22-23-aout-2020-juge-p-legatte/
LOCATION:rue des marronniers hippodrome de Navarre\, Evreux\, France
CATEGORIES:Concours continentaux
END:VEVENT
END:VCALENDAR