BEGIN:VCALENDAR
VERSION:2.0
PRODID:-//chien de berger continental - ECPv4.5.3//NONSGML v1.0//EN
CALSCALE:GREGORIAN
METHOD:PUBLISH
X-WR-CALNAME:chien de berger continental
X-ORIGINAL-URL:http://chiendeberger.fr
X-WR-CALDESC:Events for chien de berger continental
BEGIN:VEVENT
DTSTART;VALUE=DATE:20200801
DTEND;VALUE=DATE:20200802
DTSTAMP:20260424T025652
CREATED:20200112T141743Z
LAST-MODIFIED:20200506T090329Z
UID:2353-1596240000-1596412799@chiendeberger.fr
SUMMARY:Concours continental à Mézériat (01)\, Niveaux 1\, 2\, 3 - Maintenu
DESCRIPTION:Concours continental niveaux 1\, 2 et 3\, Mézériat\n\nDates: 01-02 août 2020\n\nOrganisateur: Gérard Amoros amorosgerard@orange.fr\n\nJuge: Ch.Meténier
URL:http://chiendeberger.fr/index.php/event/concours-continental-a-mezeriat-01-niveaux-1-2/
LOCATION:Route de Fay\, Mézériat\, 01\, 01660\, France
CATEGORIES:Concours,Concours continentaux
END:VEVENT
END:VCALENDAR