BEGIN:VCALENDAR
VERSION:2.0
PRODID:-//chien de berger continental - ECPv4.5.3//NONSGML v1.0//EN
CALSCALE:GREGORIAN
METHOD:PUBLISH
X-WR-CALNAME:chien de berger continental
X-ORIGINAL-URL:http://chiendeberger.fr
X-WR-CALDESC:Events for chien de berger continental
BEGIN:VEVENT
DTSTART;VALUE=DATE:20210523
DTEND;VALUE=DATE:20210523
DTSTAMP:20260424T155010
CREATED:20210307T082951Z
LAST-MODIFIED:20210430T151350Z
UID:2675-1621728000-1621814399@chiendeberger.fr
SUMMARY:ANNULE - Concours continental niv. 2\, 3 Aspres sur Buech (05)
DESCRIPTION:Annulé\, information du 30.04.2021\n\nConcours continental niveaux 2 et 3\, Aspres sur Buech (05)\, le dimanche 23 mai 2021\n\nJuge P.Legatte\n\nOrganisateur: JM. Bisqueret\n\nContact / Inscriptions: cab.paca@gmail.com \n\n \n\n 
URL:http://chiendeberger.fr/index.php/event/concours-continental-niv-2-3-aspres-sur-buech-05-juge-p-legatte/
LOCATION:Aspres sur Buech\, France
CATEGORIES:Concours,Concours continentaux
ORGANIZER;CN="JM%20Bisqueret":MAILTO:cab.paca@gmail.com
END:VEVENT
END:VCALENDAR