BEGIN:VCALENDAR
VERSION:2.0
PRODID:-//chien de berger continental - ECPv4.5.3//NONSGML v1.0//EN
CALSCALE:GREGORIAN
METHOD:PUBLISH
X-WR-CALNAME:chien de berger continental
X-ORIGINAL-URL:http://chiendeberger.fr
X-WR-CALDESC:Events for chien de berger continental
BEGIN:VEVENT
DTSTART;VALUE=DATE:20201017
DTEND;VALUE=DATE:20201018
DTSTAMP:20260424T135213
CREATED:20200117T214241Z
LAST-MODIFIED:20200930T053554Z
UID:2366-1602892800-1603065599@chiendeberger.fr
SUMMARY:Concours continental\, Niveaux 1\, 2\, 3\, Evreux - ANNULE
DESCRIPTION:Information au 30.09. Le concours est ANNULE\n\nConcours continental Niveaux 1\, 2\, 3 Evreux 17-18 octobre 2020\n\njuge:  Jean-Luc Vadakarn\n\nOrganisation: L’Association du Berger Ancestral\n\nContact: benoit.voisin@hotmail.fr
URL:http://chiendeberger.fr/index.php/event/concours-continental-niveaux-1-2-3-evreux/
LOCATION:rue des marronniers hippodrome de Navarre\, Evreux\, France
CATEGORIES:Concours,Concours continentaux
END:VEVENT
END:VCALENDAR