BEGIN:VCALENDAR
VERSION:2.0
PRODID:-//chien de berger continental - ECPv4.5.3//NONSGML v1.0//EN
CALSCALE:GREGORIAN
METHOD:PUBLISH
X-WR-CALNAME:chien de berger continental
X-ORIGINAL-URL:http://chiendeberger.fr
X-WR-CALDESC:Events for chien de berger continental
BEGIN:VEVENT
DTSTART;VALUE=DATE:20200808
DTEND;VALUE=DATE:20200809
DTSTAMP:20260424T061954
CREATED:20200506T204941Z
LAST-MODIFIED:20200606T194810Z
UID:2460-1596844800-1597017599@chiendeberger.fr
SUMMARY:Concours continental Niveaux 1\,2 et 3\, Mézériat (01)
DESCRIPTION:Mézériat Niveaux 1\, 2 \, 3\n08 et 09 aôut 2020\nJuge: Jean Marguet.\n\nOrganisation: Berger des Fees\, Contact: Gérard Amoros\n\nEtant donné les délais courts\, envoyez rapidement vos engagements à l’organisateur (Gérard Amoros)
URL:http://chiendeberger.fr/index.php/event/concours-continental-niveaux-12-et-3-mezeriat-01-en-cours-de-validation/
LOCATION:Route de Fay\, Mézériat\, 01\, 01660\, France
END:VEVENT
END:VCALENDAR