BEGIN:VCALENDAR
VERSION:2.0
PRODID:-//chien de berger continental - ECPv4.5.3//NONSGML v1.0//EN
CALSCALE:GREGORIAN
METHOD:PUBLISH
X-WR-CALNAME:chien de berger continental
X-ORIGINAL-URL:http://chiendeberger.fr
X-WR-CALDESC:Events for chien de berger continental
BEGIN:VEVENT
DTSTART;VALUE=DATE:20200926
DTEND;VALUE=DATE:20200927
DTSTAMP:20260424T114247
CREATED:20200112T143434Z
LAST-MODIFIED:20200112T143434Z
UID:2360-1601078400-1601251199@chiendeberger.fr
SUMMARY:Concours continental\, Niveaux 1\,2\, Lagorce (07)
DESCRIPTION:\n\nConcours continental niveaux 1\, 2\n\nDates: 26-27 septembre 2020\n\nOrganisateur: Pierre Legatte pierre.legatte@outlook.fr\n\nJuge: Ch.Meténier\n\n
URL:http://chiendeberger.fr/index.php/event/concours-continental-niveaux-12-lagorce-07/
LOCATION:Lagorce\, 07150\, France
CATEGORIES:Concours,Concours continentaux
END:VEVENT
END:VCALENDAR