BEGIN:VCALENDAR
VERSION:2.0
PRODID:-//chien de berger continental - ECPv4.5.3//NONSGML v1.0//EN
CALSCALE:GREGORIAN
METHOD:PUBLISH
X-WR-CALNAME:chien de berger continental
X-ORIGINAL-URL:http://chiendeberger.fr
X-WR-CALDESC:Events for chien de berger continental
BEGIN:VEVENT
DTSTART;VALUE=DATE:20200905
DTEND;VALUE=DATE:20200906
DTSTAMP:20260424T101316
CREATED:20200112T141426Z
LAST-MODIFIED:20200527T200351Z
UID:2351-1599264000-1599436799@chiendeberger.fr
SUMMARY:Concours continental niveaux 1\,2\,3 à Eghesee (Belgique)
DESCRIPTION:Concours continental niveaux 1\, 2 et 3\, Eghesee (Belgique)\n\nDates: 05-06 septembre 2020 (report de la date de début juillet)\n\nOrganisateur: Bianca Behets behets.bianca@gmail.com\n\nJuge: Mathieu Montaillé (reste inchangé\, comme programmé en juillet)
URL:http://chiendeberger.fr/index.php/event/concours-continental-niveaux-123-a-eghesee-belgique/
LOCATION:Eghesee\, 5310\, Belgique
CATEGORIES:Concours,Concours continentaux
ORGANIZER;CN="Bianca%20Behets":MAILTO:behets.bianca@gmail.com
END:VEVENT
END:VCALENDAR