BEGIN:VCALENDAR
VERSION:2.0
PRODID:-//chien de berger continental - ECPv4.5.3//NONSGML v1.0//EN
CALSCALE:GREGORIAN
METHOD:PUBLISH
X-WR-CALNAME:chien de berger continental
X-ORIGINAL-URL:http://chiendeberger.fr
X-WR-CALDESC:Events for chien de berger continental
BEGIN:VEVENT
DTSTART;VALUE=DATE:20200802
DTEND;VALUE=DATE:20200802
DTSTAMP:20260424T043538
CREATED:20200112T143022Z
LAST-MODIFIED:20200506T090443Z
UID:2358-1596326400-1596412799@chiendeberger.fr
SUMMARY:Coupe de France des chiens de berger continentaux 2020 - Reportée à 2021!
DESCRIPTION:\n\nCoupe de France des chiens de berger continentaux 2020 reportée à 2021\, selon décision de la SCC/CUNT.\n\nDates: 02 août 2020 -> Nouvelle date à déterminer\n\nOrganisateur: Gérard Amoros amorosgerard@orange.fr\n\nJuge: Ch.Meténier\n\n
URL:http://chiendeberger.fr/index.php/event/coupe-de-france-des-chiens-de-berger-continentaux-2020/
LOCATION:Route de Fay\, Mézériat\, 01\, 01660\, France
CATEGORIES:Concours,Concours continentaux
END:VEVENT
END:VCALENDAR